BEGIN:VCALENDAR
VERSION:2.0
PRODID:-//ChamberMaster//Event Calendar 2.0//EN
METHOD:PUBLISH
X-PUBLISHED-TTL:P3D
REFRESH-INTERVAL:P3D
CALSCALE:GREGORIAN
BEGIN:VEVENT
DTSTART;VALUE=DATE:20260704
DTEND;VALUE=DATE:20260705
TRANSP:TRANSPARENT
X-MICROSOFT-CDO-ALLDAYEVENT:TRUE
SUMMARY:SPONSOR the 4th of July Honor America Celebration
DESCRIPTION:Seeking Honor America Celebration Sponsorships\n\nCelebration Sponsor - $3\,000\n\nSaturn Missile - $1\,500\n\nSky Rocket - $500\n\nFirecracker - $250\n\nSparkler - $150
X-ALT-DESC;FMTTYPE=text/html:Seeking Honor America Celebration Sponsorships<br />\nCelebration Sponsor - $3\,000<br />\nSaturn Missile - $1\,500<br />\nSky Rocket - $500<br />\nFirecracker - $250<br />\nSparkler - $150<br />\n&nbsp\;
LOCATION:Pekin Memorial Stadium
UID:e.112.19448
SEQUENCE:3
DTSTAMP:20260424T153006Z
URL:https://business.pekinchamber.com/events/details/sponsor-the-4th-of-july-honor-america-celebration-19448
END:VEVENT

END:VCALENDAR
